BEGIN:VCALENDAR
VERSION:2.0
PRODID:-//wp-events-plugin.com//7.2.3.1//EN
TZID:Europe/Paris
X-WR-TIMEZONE:Europe/Paris
BEGIN:VEVENT
UID:47@repaircafelavaur.eu
DTSTART;TZID=Europe/Paris:20250329T143000
DTEND;TZID=Europe/Paris:20250329T173000
DTSTAMP:20241102T092834Z
URL:https://repaircafelavaur.eu/calendrierrpcl/repair-cafe-lavaur-23/
SUMMARY:Repair Café Lavaur # 23
DESCRIPTION:[wpforms id="4049"]
ATTACH;FMTTYPE=image/jpeg:https://repaircafelavaur.eu/wp-content/uploads/2
 024/09/RPCL-SAISON-3.jpg
CATEGORIES:Atelier Repair Café à Lavaur
LOCATION:Atelier 81\, 4\,Rue Père Bonsirven\, Lavaur\, Tarn\, 81500\, Occi
 tanie\, France
X-APPLE-STRUCTURED-LOCATION;VALUE=URI;X-ADDRESS=4\,Rue Père Bonsirven\, La
 vaur\, Tarn\, 81500\, Occitanie\, France;X-APPLE-RADIUS=100;X-TITLE=Atelie
 r 81:geo:0,0
END:VEVENT
BEGIN:VTIMEZONE
TZID:Europe/Paris
X-LIC-LOCATION:Europe/Paris
BEGIN:STANDARD
DTSTART:20241027T020000
TZOFFSETFROM:+0200
TZOFFSETTO:+0100
TZNAME:CET
END:STANDARD
END:VTIMEZONE
END:VCALENDAR